BEGIN:VCALENDAR
VERSION:2.0
PRODID:-//McAllen Chamber of Commerce - ECPv6.15.20//NONSGML v1.0//EN
CALSCALE:GREGORIAN
METHOD:PUBLISH
X-WR-CALNAME:McAllen Chamber of Commerce
X-ORIGINAL-URL:https://mcallenchamber.com
X-WR-CALDESC:Events for McAllen Chamber of Commerce
REFRESH-INTERVAL;VALUE=DURATION:PT1H
X-Robots-Tag:noindex
X-PUBLISHED-TTL:PT1H
BEGIN:VTIMEZONE
TZID:America/Chicago
BEGIN:DAYLIGHT
TZOFFSETFROM:-0600
TZOFFSETTO:-0500
TZNAME:CDT
DTSTART:20240310T080000
END:DAYLIGHT
BEGIN:STANDARD
TZOFFSETFROM:-0500
TZOFFSETTO:-0600
TZNAME:CST
DTSTART:20241103T070000
END:STANDARD
BEGIN:DAYLIGHT
TZOFFSETFROM:-0600
TZOFFSETTO:-0500
TZNAME:CDT
DTSTART:20250309T080000
END:DAYLIGHT
BEGIN:STANDARD
TZOFFSETFROM:-0500
TZOFFSETTO:-0600
TZNAME:CST
DTSTART:20251102T070000
END:STANDARD
BEGIN:DAYLIGHT
TZOFFSETFROM:-0600
TZOFFSETTO:-0500
TZNAME:CDT
DTSTART:20260308T080000
END:DAYLIGHT
BEGIN:STANDARD
TZOFFSETFROM:-0500
TZOFFSETTO:-0600
TZNAME:CST
DTSTART:20261101T070000
END:STANDARD
END:VTIMEZONE
BEGIN:VEVENT
DTSTART;TZID=America/Chicago:20250401T090000
DTEND;TZID=America/Chicago:20250401T100000
DTSTAMP:20260425T084925
CREATED:20250313T195931Z
LAST-MODIFIED:20250314T174706Z
UID:10012785-1743498000-1743501600@mcallenchamber.com
SUMMARY:Mesa Redonda - Control de Producción e Inventarios en la Industria de Alimentos y Bebidas
DESCRIPTION:
URL:https://mcallenchamber.com/event/mesa-redonda-control-de-produccion-e-inventarios-en-la-industria-de-alimentos-y-bebidas/
LOCATION:TX
CATEGORIES:Chamber Events
ATTACH;FMTTYPE=image/png:https://mcallenchamber.com/wp-content/uploads/2025/03/Mesa-Redonda-Febrero-AMSG-USA-8.png
END:VEVENT
BEGIN:VEVENT
DTSTART;TZID=America/Chicago:20250402T090000
DTEND;TZID=America/Chicago:20250402T110000
DTSTAMP:20260425T084925
CREATED:20240610T145042Z
LAST-MODIFIED:20260303T160629Z
UID:10012317-1743584400-1743591600@mcallenchamber.com
SUMMARY:Latina Hope
DESCRIPTION:Latina Hope is a competitive pitch program created to facilitate training\, networking\, and micro business development for Spanish-speaking women. The program offers business workshops\, as well as specialized skill training in making candles\, cards\, jewelry\, soaps\, toys\, and wreaths. Latina Hope also offers classes in knitting/crocheting\, quilting\, sewing\, and alterations. After attending the training\, participants are given the opportunity to prepare and pitch a project plan for competition. The winner is awarded $250 in materials to support her micro business.
URL:https://mcallenchamber.com/event/latina-hope/2025-04-02/
LOCATION:Calvary Baptist Church\, 1600 Harvey Dr.\, McAllen\, TX\, 78501\, United States
CATEGORIES:Chamber Events
ATTACH;FMTTYPE=image/png:https://mcallenchamber.com/wp-content/uploads/2026/03/171.png
END:VEVENT
BEGIN:VEVENT
DTSTART;TZID=America/Chicago:20250404T130000
DTEND;TZID=America/Chicago:20250404T150000
DTSTAMP:20260425T084925
CREATED:20250318T134250Z
LAST-MODIFIED:20250318T145942Z
UID:10012788-1743771600-1743778800@mcallenchamber.com
SUMMARY:RGV OFF ROAD LLC: Ribbon Cutting Ceremony
DESCRIPTION:
URL:https://mcallenchamber.com/event/rgv-off-road-llc-ribbon-cutting-ceremony/
LOCATION:2701 W Expy 83 McAllen Tx 78501\, 2701 W Expy 83\, McAllen\, TX\, 78501\, United States
CATEGORIES:Chamber Events
ATTACH;FMTTYPE=image/png:https://mcallenchamber.com/wp-content/uploads/2025/03/RGV-OFF-ROAD.png
END:VEVENT
BEGIN:VEVENT
DTSTART;TZID=America/Chicago:20250404T153000
DTEND;TZID=America/Chicago:20250404T170000
DTSTAMP:20260425T084925
CREATED:20250304T154131Z
LAST-MODIFIED:20250404T131613Z
UID:10012719-1743780600-1743786000@mcallenchamber.com
SUMMARY:Integrity Auto Repair: Ribbon Cutting Ceremony
DESCRIPTION:
URL:https://mcallenchamber.com/event/integrity-auto-repair-ribbon-cutting-ceremony/
LOCATION:1005 E Bus US-83 McAllen Tx 78501\, 1005 E Bus US-83\, Mcallen\, 78501\, United States
CATEGORIES:Chamber Events
ATTACH;FMTTYPE=image/png:https://mcallenchamber.com/wp-content/uploads/2025/03/INTEGRITY-AUTO-2.png
END:VEVENT
BEGIN:VEVENT
DTSTART;TZID=America/Chicago:20250404T180000
DTEND;TZID=America/Chicago:20250404T200000
DTSTAMP:20260425T084925
CREATED:20250117T150424Z
LAST-MODIFIED:20250519T185024Z
UID:10012835-1743789600-1743796800@mcallenchamber.com
SUMMARY:Art Walk
DESCRIPTION:Art Walk is a free\, public event held at the McAllen Creative Incubator\, where art fans and enthusiasts can immerse yourselves in the local artistry of some of McAllen’s–and the RGV’s–most talented micro artists\, including student artists from throughout Hidalgo County.
URL:https://mcallenchamber.com/event/art-walk-9-3/2025-04-04/
LOCATION:McAllen Creative Incubator\, 601 N. Main St.\, McAllen\, TX\, 78501\, United States
CATEGORIES:Chamber Events
ATTACH;FMTTYPE=image/png:https://mcallenchamber.com/wp-content/uploads/2025/04/artwalk525-Instagram-Post-45.png
GEO:26.2097744;-98.2337393
X-APPLE-STRUCTURED-LOCATION;VALUE=URI;X-ADDRESS=McAllen Creative Incubator 601 N. Main St. McAllen TX 78501 United States;X-APPLE-RADIUS=500;X-TITLE=601 N. Main St.:geo:-98.2337393,26.2097744
END:VEVENT
BEGIN:VEVENT
DTSTART;TZID=America/Chicago:20250404T180000
DTEND;TZID=America/Chicago:20250404T200000
DTSTAMP:20260425T084925
CREATED:20250402T133303Z
LAST-MODIFIED:20250402T133304Z
UID:10012259-1743789600-1743796800@mcallenchamber.com
SUMMARY:Art Walk
DESCRIPTION:Art Walk is a free\, public event held at the McAllen Creative Incubator\, where art fans and enthusiasts can immerse yourselves in the local artistry of some of McAllen’s–and the RGV’s–most talented micro artists\, including student artists from throughout Hidalgo County.
URL:https://mcallenchamber.com/event/art-walk-9-3-2/
LOCATION:McAllen Creative Incubator\, 601 N. Main St.\, McAllen\, TX\, 78501\, United States
CATEGORIES:Chamber Events
ATTACH;FMTTYPE=image/jpeg:https://mcallenchamber.com/wp-content/uploads/2025/01/artwalk-scaled.jpg
GEO:26.2097744;-98.2337393
X-APPLE-STRUCTURED-LOCATION;VALUE=URI;X-ADDRESS=McAllen Creative Incubator 601 N. Main St. McAllen TX 78501 United States;X-APPLE-RADIUS=500;X-TITLE=601 N. Main St.:geo:-98.2337393,26.2097744
END:VEVENT
BEGIN:VEVENT
DTSTART;TZID=America/Chicago:20250407T090000
DTEND;TZID=America/Chicago:20250407T150000
DTSTAMP:20260425T084925
CREATED:20250106T214233Z
LAST-MODIFIED:20250312T133153Z
UID:10012678-1744016400-1744038000@mcallenchamber.com
SUMMARY:Mayor's Golf Tournament
DESCRIPTION:  \nREGISTER HERE \nhttps://www.chamberdata.net/webforms/RepLogin.aspx?dbid2=txmca&logintype=EVT&evtid=75064
URL:https://mcallenchamber.com/event/mayors-golf-tournament/
LOCATION:McAllen Country Club\, 615 Wichita Ave.\, McAllen\, TX\, 78501\, United States
CATEGORIES:Chamber Events
ATTACH;FMTTYPE=image/png:https://mcallenchamber.com/wp-content/uploads/2025/01/Mayors-Cup-Tournament-Golf-2025-Flyer-1.png
GEO:26.179489;-98.230222
X-APPLE-STRUCTURED-LOCATION;VALUE=URI;X-ADDRESS=McAllen Country Club 615 Wichita Ave. McAllen TX 78501 United States;X-APPLE-RADIUS=500;X-TITLE=615 Wichita Ave.:geo:-98.230222,26.179489
END:VEVENT
BEGIN:VEVENT
DTSTART;TZID=America/Chicago:20250408T113000
DTEND;TZID=America/Chicago:20250408T133000
DTSTAMP:20260425T084925
CREATED:20250305T175059Z
LAST-MODIFIED:20250402T144515Z
UID:10012721-1744111800-1744119000@mcallenchamber.com
SUMMARY:Link Up
DESCRIPTION:
URL:https://mcallenchamber.com/event/link-up-10/
LOCATION:1200 Ash Avenue McAllen TX 78501\, 1200 Ash Ave.\, McAllen\, TX\, 78501\, United States
CATEGORIES:Chamber Events
ATTACH;FMTTYPE=image/png:https://mcallenchamber.com/wp-content/uploads/2025/03/Link-up-April-2025.png
END:VEVENT
BEGIN:VEVENT
DTSTART;TZID=America/Chicago:20250410T170000
DTEND;TZID=America/Chicago:20250410T190000
DTSTAMP:20260425T084925
CREATED:20250306T171952Z
LAST-MODIFIED:20250306T172107Z
UID:10012782-1744304400-1744311600@mcallenchamber.com
SUMMARY:Golden Key Real Estate & Investments: Ribbon Cutting Ceremony
DESCRIPTION:
URL:https://mcallenchamber.com/event/golden-key-real-estate-investments-ribbon-cutting-ceremony/
LOCATION:4129 N 22nd St. Ste. 1 Mcallen Tx 78504\, 4129 N 22nd St Ste 1\, Mcallen\, 78504\, United States
CATEGORIES:Chamber Events
ATTACH;FMTTYPE=image/png:https://mcallenchamber.com/wp-content/uploads/2025/03/GOLDEN-KEY.png
END:VEVENT
BEGIN:VEVENT
DTSTART;TZID=America/Chicago:20250411T163000
DTEND;TZID=America/Chicago:20250411T183000
DTSTAMP:20260425T084925
CREATED:20250318T135722Z
LAST-MODIFIED:20250324T202105Z
UID:10012789-1744389000-1744396200@mcallenchamber.com
SUMMARY:Bautista Allstate Insurance: Ribbon Cutting Ceremony
DESCRIPTION:
URL:https://mcallenchamber.com/event/bautista-allstate-insurance-ribbon-cutting-ceremony/
LOCATION:2500 W Trenton Rd Ste. 3 Edinburg Tx 78539\, 2500 W Trenton Rd Ste 3\, Edinburg\, TX\, 78539\, United States
CATEGORIES:Chamber Events
ATTACH;FMTTYPE=image/png:https://mcallenchamber.com/wp-content/uploads/2025/03/BAUTISTA-ALLSTATE-1.png
END:VEVENT
BEGIN:VEVENT
DTSTART;TZID=America/Chicago:20250416T143000
DTEND;TZID=America/Chicago:20250416T160000
DTSTAMP:20260425T084925
CREATED:20250324T201245Z
LAST-MODIFIED:20250403T143713Z
UID:10012791-1744813800-1744819200@mcallenchamber.com
SUMMARY:The Baked Bear: Ribbon Cutting Ceremony
DESCRIPTION:
URL:https://mcallenchamber.com/event/the-baked-bear-ribbon-cutting-ceremony/
LOCATION:7913 N 10th St Ste 110 Mcallen Tx 78504\, 7913 N 10th St Ste 110\, McAllen\, TX\, 78504\, United States
CATEGORIES:Chamber Events
ATTACH;FMTTYPE=image/png:https://mcallenchamber.com/wp-content/uploads/2025/03/THE-BAKED-BEAR-3.png
END:VEVENT
BEGIN:VEVENT
DTSTART;TZID=America/Chicago:20250417T100000
DTEND;TZID=America/Chicago:20250417T120000
DTSTAMP:20260425T084925
CREATED:20250318T145746Z
LAST-MODIFIED:20250326T195952Z
UID:10012790-1744884000-1744891200@mcallenchamber.com
SUMMARY:Lacks Furniture: Retailer of the Year Ribbon Cutting Ceremony
DESCRIPTION:
URL:https://mcallenchamber.com/event/lacks-furniture-ribbon-cutting-ceremony/
LOCATION:1200 E Expressway 83\, McAllen\, TX 78501\, 1200 E Expy 83\, Mcallen\, TX\, 78501\, United States
CATEGORIES:Chamber Events
ATTACH;FMTTYPE=image/jpeg:https://mcallenchamber.com/wp-content/uploads/2025/03/LACKS-copy.jpg
END:VEVENT
BEGIN:VEVENT
DTSTART;TZID=America/Chicago:20250417T133000
DTEND;TZID=America/Chicago:20250417T153000
DTSTAMP:20260425T084925
CREATED:20250207T145018Z
LAST-MODIFIED:20250327T171637Z
UID:10012703-1744896600-1744903800@mcallenchamber.com
SUMMARY:Frontline Home Solutions - 10 YEAR ANNIVERSARY Ribbon Cutting Ceremony
DESCRIPTION:
URL:https://mcallenchamber.com/event/frontline-home-solutions-ribbon-cutting-ceremony/
LOCATION:205 I-2 Pharr Tx 78577\, 205 I-2\, Pharr\, TX\, 78577\, United States
CATEGORIES:Chamber Events
ATTACH;FMTTYPE=image/png:https://mcallenchamber.com/wp-content/uploads/2025/02/FRONTLINE-HOME-SOLUTIONS-1.png
END:VEVENT
BEGIN:VEVENT
DTSTART;TZID=America/Chicago:20250423T110000
DTEND;TZID=America/Chicago:20250423T130000
DTSTAMP:20260425T084925
CREATED:20250224T221036Z
LAST-MODIFIED:20250312T140448Z
UID:10012712-1745406000-1745413200@mcallenchamber.com
SUMMARY:Administrative Professionals' Day Luncheon
DESCRIPTION:REGISTER NOW \nhttps://www.chamberdata.net/webforms/RepLogin.aspx?dbid2=txmca&logintype=EVT&evtid=75529
URL:https://mcallenchamber.com/event/administrative-professionals-day-luncheon/
LOCATION:McAllen Convention Center Ballroom
CATEGORIES:Chamber Events,Sticky
ATTACH;FMTTYPE=image/jpeg:https://mcallenchamber.com/wp-content/uploads/2025/02/ADMIN-scaled.jpg
END:VEVENT
BEGIN:VEVENT
DTSTART;TZID=America/Chicago:20250425T103000
DTEND;TZID=America/Chicago:20250425T123000
DTSTAMP:20260425T084925
CREATED:20250402T150301Z
LAST-MODIFIED:20250402T150302Z
UID:10012796-1745577000-1745584200@mcallenchamber.com
SUMMARY:Flexible Staffing: Ribbon Cutting Ceremony
DESCRIPTION:
URL:https://mcallenchamber.com/event/flexible-staffing-ribbon-cutting-ceremony/
LOCATION:2858 Pecan Blvd Suite C  McAllen\, Texas 78501\, 2858 Pecan Blvd Suite C\, Mcallen\, TX\, 78501\, United States
CATEGORIES:Chamber Events
ATTACH;FMTTYPE=image/png:https://mcallenchamber.com/wp-content/uploads/2025/04/FLEXIBLE-STAFFING-2.png
END:VEVENT
BEGIN:VEVENT
DTSTART;TZID=America/Chicago:20250425T120000
DTEND;TZID=America/Chicago:20250425T170000
DTSTAMP:20260425T084925
CREATED:20250415T211317Z
LAST-MODIFIED:20250415T213717Z
UID:10012806-1745582400-1745600400@mcallenchamber.com
SUMMARY:CA$H MOB: Juicy Fresh
DESCRIPTION:
URL:https://mcallenchamber.com/event/cah-mob-juicy-fresh/
LOCATION:1200 N. 10th St. Ste. B McAllen\, TX 78501\, 1200 N. 10th St. Ste. B\, Mcallen\, TX\, 78501\, United States
CATEGORIES:Chamber Events
ATTACH;FMTTYPE=image/png:https://mcallenchamber.com/wp-content/uploads/2025/04/April-Cash-Mob.png
END:VEVENT
BEGIN:VEVENT
DTSTART;TZID=America/Chicago:20250429T100000
DTEND;TZID=America/Chicago:20250429T110000
DTSTAMP:20260425T084925
CREATED:20250409T220042Z
LAST-MODIFIED:20250409T220043Z
UID:10012799-1745920800-1745924400@mcallenchamber.com
SUMMARY:Jade Nails: Ribbon Cutting Ceremony
DESCRIPTION:
URL:https://mcallenchamber.com/event/jade-nails-ribbon-cutting-ceremony/
LOCATION:1300 E Nolana Ave Bldg 100 Ste. 160 McAllen Tx 78504\, 1300 E Nolana Ave Bldg 100 Ste 160\, Mcallen\, TX\, 78504\, United States
CATEGORIES:Chamber Events
ATTACH;FMTTYPE=image/png:https://mcallenchamber.com/wp-content/uploads/2025/04/JADE-NAILS.png
END:VEVENT
END:VCALENDAR